BEGIN:VCALENDAR
VERSION:2.0
PRODID:spatie/icalendar-generator
DESCRIPTION:Events from Central Committee of the Sweetwater County Democrat
 ic Party
X-WR-CALDESC:Events from Central Committee of the Sweetwater County Democra
 tic Party
REFRESH-INTERVAL;VALUE=DURATION:PT1440M
X-PUBLISHED-TTL:PT1440M
BEGIN:VTIMEZONE
TZID:America/Denver
BEGIN:DAYLIGHT
DTSTART:20240310T020000Z
TZOFFSETFROM:-0700
TZOFFSETTO:-0600
END:DAYLIGHT
BEGIN:STANDARD
DTSTART:20241103T020000Z
TZOFFSETFROM:-0600
TZOFFSETTO:-0700
END:STANDARD
END:VTIMEZONE
BEGIN:VTIMEZONE
TZID:UTC
BEGIN:STANDARD
DTSTART:20250725T120324Z
TZOFFSETFROM:+0000
TZOFFSETTO:+0000
END:STANDARD
END:VTIMEZONE
BEGIN:VEVENT
UID:19-18
DTSTAMP:20260421T120324Z
SUMMARY:2024 School Candidate Filing
LOCATION:
ORGANIZER;CN=cablesweetwater:MAILTO:cable@sweetwaterhsa.com
DTSTART;TZID=America/Denver:20240807T080000
DTEND;TZID=America/Denver:20240826T170000
X-ALT-DESC;FMTTYPE=TEXT/HTML:School candidate filing period is August 7 thr
 ough August 26.
CATEGORIES:General
URL;VALUE=URI:https://sweetwaterdems.com/mc-events/2024-school-candidate-fi
 ling/
METHOD:PUBLISH
END:VEVENT
END:VCALENDAR